View In:
ArcGIS JavaScript
ArcGIS Online Map Viewer
ArcGIS Earth
ArcMap
View Footprint In:
ArcGIS Online Map Viewer
Service Description: Az_270_Alt_45_Z_05
Name: Az_270_Alt_45_Z_05
Description:
Single Fused Map Cache: false
Extent:
XMin: 224605.48883260437
YMin: 4807414.163393196
XMax: 767480.4888326044
YMax: 5234439.163393196
Spatial Reference: 2038
(2961)
Initial Extent:
XMin: 224605.48883260437
YMin: 4807414.163393196
XMax: 767480.4888326044
YMax: 5234439.163393196
Spatial Reference: 2038
(2961)
Full Extent:
XMin: 224605.48883260437
YMin: 4807414.163393196
XMax: 767480.4888326044
YMax: 5234439.163393196
Spatial Reference: 2038
(2961)
Pixel Size X: 25.0
Pixel Size Y: 25.0
Band Count: 1
Pixel Type: U8
RasterFunction Infos: {"rasterFunctionInfos": [{
"name": "None",
"description": "",
"help": ""
}]}
Mensuration Capabilities: Basic
Has Histograms: true
Has Colormap: false
Has Multi Dimensions : false
Rendering Rule:
Min Scale: 0
Max Scale: 0
Copyright Text:
Service Data Type: esriImageServiceDataTypeGeneric
Min Values: 0
Max Values: 255
Mean Values: 234.393543187
Standard Deviation Values: 39.90754709142
Object ID Field:
Fields:
None
Default Mosaic Method: Center
Allowed Mosaic Methods:
SortField:
SortValue: null
Mosaic Operator: First
Default Compression Quality: 75
Default Resampling Method: Bilinear
Max Record Count: null
Max Image Height: 4100
Max Image Width: 15000
Max Download Image Count: null
Max Mosaic Image Count: null
Allow Raster Function: true
Allow Copy: true
Allow Analysis: true
Allow Compute TiePoints: false
Supports Statistics: false
Supports Advanced Queries: false
Use StandardizedQueries: true
Raster Type Infos:
Name: Raster Dataset
Description: Supports all ArcGIS Raster Datasets
Help:
Has Raster Attribute Table: false
Edit Fields Info: null
Ownership Based AccessControl For Rasters: null
Child Resources:
Info
Histograms
Statistics
Key Properties
Legend
Raster Function Infos
Supported Operations:
Export Image
Identify
Measure
Compute Histograms
Compute Statistics Histograms
Get Samples
Compute Class Statistics
Query Boundary
Compute Pixel Location
Validate
Project