{ "currentVersion": 10.81, "cimVersion": "2.7.0", "serviceDescription": "
The following criteria was used to develop th<\/SPAN>is layer<\/SPAN>:<\/SPAN><\/P> 1. Severity of existing drought conditions (based on Agriculture and Agri-Food Canada Drought Monitor polygons, <\/SPAN><\/SPAN>http://open.canada.ca/data/en/dataset/292646cd-619f-4200-afb1-8b2c52f984a2<\/SPAN><\/SPAN><\/A>)<\/SPAN><\/SPAN><\/P> 2. Recent and forecasted precipitation patterns (based on Environment Canada\u2019s predicted precipitation anomaly, past 9 and next 9 days)<\/SPAN><\/SPAN><\/P> 3. Proportion of sensitive wells (based on the percentage of dug wells and shallow drilled wells compared to the number of total wells in a given area, source: Nova Scotia Well Logs Database)<\/SPAN><\/SPAN><\/P> 4. Concentration of groundwater use (estimated density of private well users, source: Nova Scotia Civic Addressing File and compiled municipal water servicing zones)<\/SPAN><\/SPAN><\/P> <\/P> Areas of the province with no impact level indicates that there are no private well users in these areas. The potential impact of drought on private wells was developed based on the analysis published in the following conference paper: <\/SPAN>https://novascotia.ca/natr/meb/data/pubs/cs/cs_me_2017-005.pdf<\/SPAN><\/SPAN><\/A><\/P><\/DIV>",
"mapName": "Potential_Drought_h497ns_September_2021_UT83",
"description": " The following criteria was used to develop th<\/SPAN>is layer<\/SPAN>:<\/SPAN><\/P> 1. Severity of existing drought conditions (based on Agriculture and Agri-Food Canada Drought Monitor polygons, <\/SPAN><\/SPAN>http://open.canada.ca/data/en/dataset/292646cd-619f-4200-afb1-8b2c52f984a2<\/SPAN><\/SPAN><\/A>)<\/SPAN><\/SPAN><\/P> 2. Recent and forecasted precipitation patterns (based on Environment Canada\u2019s predicted precipitation anomaly, past 9 and next 9 days)<\/SPAN><\/SPAN><\/P> 3. Proportion of sensitive wells (based on the percentage of dug wells and shallow drilled wells compared to the number of total wells in a given area, source: Nova Scotia Well Logs Database)<\/SPAN><\/SPAN><\/P> 4. Concentration of groundwater use (estimated density of private well users, source: Nova Scotia Civic Addressing File and compiled municipal water servicing zones)<\/SPAN><\/SPAN><\/P> <\/P> Areas of the province with no impact level indicates that there are no private well users in these areas. The potential impact of drought on private wells was developed based on the analysis published in the following conference paper: <\/SPAN>https://novascotia.ca/natr/meb/data/pubs/cs/cs_me_2017-005.pdf<\/SPAN><\/SPAN><\/A><\/P><\/DIV>",
"copyrightText": "Nova Scotia Department of Energy and Mines, Geological Survey Division",
"supportsDynamicLayers": false,
"layers": [
{
"id": 0,
"name": "Potential_Drought_h497ns_September_2021_UT83",
"parentLayerId": -1,
"defaultVisibility": true,
"subLayerIds": null,
"minScale": 0,
"maxScale": 0,
"type": "Raster Layer",
"supportsDynamicLegends": true
}
],
"tables": [],
"spatialReference": {
"wkid": 2038,
"latestWkid": 2961,
"xyTolerance": 0.001,
"zTolerance": 0.001,
"mTolerance": 0.001,
"falseX": -5120900,
"falseY": -9998100,
"xyUnits": 10000,
"falseZ": -100000,
"zUnits": 10000,
"falseM": -100000,
"mUnits": 10000
},
"singleFusedMapCache": true,
"tileInfo": {
"rows": 256,
"cols": 256,
"dpi": 96,
"format": "PNG32",
"compressionQuality": 0,
"origin": {
"x": -5120900,
"y": 9998100
},
"spatialReference": {
"wkid": 2038,
"latestWkid": 2961,
"xyTolerance": 0.001,
"zTolerance": 0.001,
"mTolerance": 0.001,
"falseX": -5120900,
"falseY": -9998100,
"xyUnits": 4.504455473910538E8,
"falseZ": -100000,
"zUnits": 10000,
"falseM": -100000,
"mUnits": 10000
},
"lods": [
{
"level": 0,
"resolution": 926.0435187537042,
"scale": 3500000
},
{
"level": 1,
"resolution": 529.1677250021168,
"scale": 2000000
},
{
"level": 2,
"resolution": 264.5838625010584,
"scale": 1000000
},
{
"level": 3,
"resolution": 132.2919312505292,
"scale": 500000
},
{
"level": 4,
"resolution": 66.1459656252646,
"scale": 250000
},
{
"level": 5,
"resolution": 39.687579375158755,
"scale": 150000
},
{
"level": 6,
"resolution": 26.458386250105836,
"scale": 100000
},
{
"level": 7,
"resolution": 13.229193125052918,
"scale": 50000
},
{
"level": 8,
"resolution": 6.614596562526459,
"scale": 25000
},
{
"level": 9,
"resolution": 2.6458386250105836,
"scale": 10000
},
{
"level": 10,
"resolution": 1.3229193125052918,
"scale": 5000
},
{
"level": 11,
"resolution": 0.5291677250021167,
"scale": 2000
},
{
"level": 12,
"resolution": 0.26458386250105836,
"scale": 1000
}
]
},
"initialExtent": {
"xmin": 204036.6605203309,
"ymin": 4790835.5342595745,
"xmax": 772837.5049111632,
"ymax": 5231935.5342595745,
"spatialReference": {
"wkid": 2038,
"latestWkid": 2961,
"xyTolerance": 0.001,
"zTolerance": 0.001,
"mTolerance": 0.001,
"falseX": -5120900,
"falseY": -9998100,
"xyUnits": 10000,
"falseZ": -100000,
"zUnits": 10000,
"falseM": -100000,
"mUnits": 10000
}
},
"fullExtent": {
"xmin": 231937.08271574706,
"ymin": 4810885.5342595745,
"xmax": 744937.0827157471,
"ymax": 5211885.5342595745,
"spatialReference": {
"wkid": 2038,
"latestWkid": 2961,
"xyTolerance": 0.001,
"zTolerance": 0.001,
"mTolerance": 0.001,
"falseX": -5120900,
"falseY": -9998100,
"xyUnits": 10000,
"falseZ": -100000,
"zUnits": 10000,
"falseM": -100000,
"mUnits": 10000
}
},
"units": "esriMeters",
"supportedImageFormatTypes": "PNG32,PNG24,PNG,JPG,DIB,TIFF,EMF,PS,PDF,GIF,SVG,SVGZ,BMP",
"documentInfo": {
"Title": "Potential Impact of Drought to Private Wells in Nova Scotia",
"Author": "",
"Comments": " The following criteria was used to develop th<\/SPAN>is layer<\/SPAN>:<\/SPAN><\/P> 1. Severity of existing drought conditions (based on Agriculture and Agri-Food Canada Drought Monitor polygons, <\/SPAN><\/SPAN>http://open.canada.ca/data/en/dataset/292646cd-619f-4200-afb1-8b2c52f984a2<\/SPAN><\/SPAN><\/A>)<\/SPAN><\/SPAN><\/P> 2. Recent and forecasted precipitation patterns (based on Environment Canada\u2019s predicted precipitation anomaly, past 9 and next 9 days)<\/SPAN><\/SPAN><\/P> 3. Proportion of sensitive wells (based on the percentage of dug wells and shallow drilled wells compared to the number of total wells in a given area, source: Nova Scotia Well Logs Database)<\/SPAN><\/SPAN><\/P> 4. Concentration of groundwater use (estimated density of private well users, source: Nova Scotia Civic Addressing File and compiled municipal water servicing zones)<\/SPAN><\/SPAN><\/P> <\/P> Areas of the province with no impact level indicates that there are no private well users in these areas. The potential impact of drought on private wells was developed based on the analysis published in the following conference paper: <\/SPAN>https://novascotia.ca/natr/meb/data/pubs/cs/cs_me_2017-005.pdf<\/SPAN><\/SPAN><\/A><\/P><\/DIV>",
"Subject": "This layer was developed to show areas of Nova Scotia where private well owners are more likely to experience water shortages (especially owners of shallow wells).",
"Category": "",
"AntialiasingMode": "Fast",
"TextAntialiasingMode": "Force",
"Version": "2.7.0",
"Keywords": "Drought"
},
"supportedQueryFormats": "JSON, geoJSON, PBF",
"referenceScale": 0.0,
"datumTransformations": [
{
"geoTransforms": [
{
"wkid": 1946,
"latestWkid": 1946,
"transformForward": false,
"name": "NAD_1983_CSRS_To_WGS_1984_2"
}
]
},
{
"geoTransforms": [
{
"wkid": 1946,
"latestWkid": 1946,
"transformForward": true,
"name": "NAD_1983_CSRS_To_WGS_1984_2"
}
]
}
],
"supportsDatumTransformation": true,
"archivingInfo": {"supportsHistoricMoment": false},
"supportsClipping": true,
"supportsSpatialFilter": true,
"supportsQueryDataElements": true,
"maxRecordCount": 1000,
"maxImageHeight": 4096,
"maxImageWidth": 4096,
"minScale": 3500000.0,
"maxScale": 25000.0,
"exportTilesAllowed": false,
"maxExportTilesCount": 100000,
"capabilities": "TilesOnly,Tilemap",
"supportedExtensions": "",
"serviceItemId": "37a27ecd8708407a9d50fdcf5ae2a6ac"
}