{ "cimVersion": "2.4.0", "serviceDescription": "
Nova Scotia Karst Risk by Group<\/SPAN><\/P><\/DIV>",
"mapName": "Karst by Group",
"description": "",
"copyrightText": "",
"supportsDynamicLayers": false,
"layers": [
{
"id": 0,
"name": "Karst Risk by Group (z494nskg)",
"parentLayerId": -1,
"defaultVisibility": true,
"subLayerIds": null,
"minScale": 0,
"maxScale": 0,
"type": "Feature Layer",
"geometryType": "esriGeometryPolygon",
"supportsDynamicLegends": true
}
],
"tables": [],
"spatialReference": {
"wkid": 2038,
"latestWkid": 2961,
"xyTolerance": 0.001,
"zTolerance": 0.001,
"mTolerance": 0.001,
"falseX": -5120900,
"falseY": -9998100,
"xyUnits": 10000,
"falseZ": -100000,
"zUnits": 10000,
"falseM": -100000,
"mUnits": 10000
},
"singleFusedMapCache": true,
"tileInfo": {
"rows": 256,
"cols": 256,
"dpi": 96,
"format": "PNG32",
"compressionQuality": 0,
"origin": {
"x": -5120900,
"y": 9998100
},
"spatialReference": {
"wkid": 2038,
"latestWkid": 2961,
"xyTolerance": 0.001,
"zTolerance": 0.001,
"mTolerance": 0.001,
"falseX": -5120900,
"falseY": -9998100,
"xyUnits": 4.504455473910538E8,
"falseZ": -100000,
"zUnits": 10000,
"falseM": -100000,
"mUnits": 10000
},
"lods": [
{
"level": 0,
"resolution": 926.0435187537042,
"scale": 3500000
},
{
"level": 1,
"resolution": 529.1677250021168,
"scale": 2000000
},
{
"level": 2,
"resolution": 264.5838625010584,
"scale": 1000000
},
{
"level": 3,
"resolution": 132.2919312505292,
"scale": 500000
},
{
"level": 4,
"resolution": 66.1459656252646,
"scale": 250000
},
{
"level": 5,
"resolution": 39.687579375158755,
"scale": 150000
},
{
"level": 6,
"resolution": 26.458386250105836,
"scale": 100000
},
{
"level": 7,
"resolution": 13.229193125052918,
"scale": 50000
},
{
"level": 8,
"resolution": 6.614596562526459,
"scale": 25000
},
{
"level": 9,
"resolution": 2.6458386250105836,
"scale": 10000
},
{
"level": 10,
"resolution": 1.3229193125052918,
"scale": 5000
},
{
"level": 11,
"resolution": 0.5291677250021167,
"scale": 2000
},
{
"level": 12,
"resolution": 0.26458386250105836,
"scale": 1000
}
]
},
"initialExtent": {
"xmin": 152062.39345319098,
"ymin": 4786095.274649999,
"xmax": 844329.9365468097,
"ymax": 5255783.35835,
"spatialReference": {
"wkid": 2038,
"latestWkid": 2961,
"xyTolerance": 0.001,
"zTolerance": 0.001,
"mTolerance": 0.001,
"falseX": -5120900,
"falseY": -9998100,
"xyUnits": 10000,
"falseZ": -100000,
"zUnits": 10000,
"falseM": -100000,
"mUnits": 10000
}
},
"fullExtent": {
"xmin": 228896.40000000037,
"ymin": 4807444.732999999,
"xmax": 767495.9299999997,
"ymax": 5234433.9,
"spatialReference": {
"wkid": 2038,
"latestWkid": 2961,
"xyTolerance": 0.001,
"zTolerance": 0.001,
"mTolerance": 0.001,
"falseX": -5120900,
"falseY": -9998100,
"xyUnits": 10000,
"falseZ": -100000,
"zUnits": 10000,
"falseM": -100000,
"mUnits": 10000
}
},
"units": "esriMeters",
"supportedImageFormatTypes": "PNG32,PNG24,PNG,JPG,DIB,TIFF,EMF,PS,PDF,GIF,SVG,SVGZ,BMP",
"documentInfo": {
"Title": "Nova Scotia Karst Risk by Group",
"Author": "",
"Comments": " Nova Scotia Karst Risk by Group<\/SPAN><\/P><\/DIV>",
"Subject": "Nova Scotia Karst Risk by Group",
"Category": "",
"AntialiasingMode": "Fast",
"TextAntialiasingMode": "Force",
"Keywords": "Nova Scotia"
},
"supportedQueryFormats": "JSON, geoJSON, PBF",
"datumTransformations": [
{
"geoTransforms": [
{
"wkid": 1946,
"latestWkid": 1946,
"transformForward": false,
"name": "NAD_1983_CSRS_To_WGS_1984_2"
}
]
},
{
"geoTransforms": [
{
"wkid": 1946,
"latestWkid": 1946,
"transformForward": true,
"name": "NAD_1983_CSRS_To_WGS_1984_2"
}
]
}
],
"supportsDatumTransformation": true,
"archivingInfo": {"supportsHistoricMoment": false},
"maxRecordCount": 1000,
"maxImageHeight": 4096,
"maxImageWidth": 4096,
"minScale": 3500000.0,
"maxScale": 50000.0,
"exportTilesAllowed": false,
"maxExportTilesCount": 100000,
"currentVersion": 10.81,
"capabilities": "TilesOnly,Tilemap",
"supportedExtensions": "",
"serviceItemId": "c57d1070a71540b3ab11561b607fb362"
}