{
 "currentVersion": 10.81,
 "serviceDescription": "Az_090_Alt_45_Z_05",
 "name": "Az_090_Alt_45_Z_05",
 "description": "",
 "extent": {
  "xmin": 224605.48883260437,
  "ymin": 4807414.163393196,
  "xmax": 767480.4888326044,
  "ymax": 5234439.163393196,
  "spatialReference": {
   "wkid": 2038,
   "latestWkid": 2961
  }
 },
 "initialExtent": {
  "xmin": 224605.48883260437,
  "ymin": 4807414.163393196,
  "xmax": 767480.4888326044,
  "ymax": 5234439.163393196,
  "spatialReference": {
   "wkid": 2038,
   "latestWkid": 2961
  }
 },
 "fullExtent": {
  "xmin": 224605.48883260437,
  "ymin": 4807414.163393196,
  "xmax": 767480.4888326044,
  "ymax": 5234439.163393196,
  "spatialReference": {
   "wkid": 2038,
   "latestWkid": 2961
  }
 },
 "pixelSizeX": 25,
 "pixelSizeY": 25,
 "datasetFormat": "MrSID",
 "uncompressedSize": 370913915,
 "blockWidth": 1024,
 "blockHeight": 128,
 "compressionType": "Wavelet (MG2)",
 "bandNames": [
  "Band_1"
 ],
 "allowCopy": true,
 "allowAnalysis": true,
 "bandCount": 1,
 "pixelType": "U8",
 "minPixelSize": 0,
 "maxPixelSize": 0,
 "copyrightText": "",
 "serviceDataType": "esriImageServiceDataTypeGeneric",
 "serviceSourceType": "esriImageServiceSourceTypeDataset",
 "minValues": [
  0
 ],
 "maxValues": [
  255
 ],
 "meanValues": [
  234.37756628772
 ],
 "stdvValues": [
  39.90333146948
 ],
 "objectIdField": "",
 "fields": [],
 "capabilities": "Image,Metadata,Mensuration",
 "defaultMosaicMethod": "Center",
 "allowedMosaicMethods": "",
 "sortField": "",
 "sortValue": null,
 "sortAscending": true,
 "mosaicOperator": "First",
 "defaultCompressionQuality": 75,
 "defaultResamplingMethod": "Bilinear",
 "maxImageHeight": 4100,
 "maxImageWidth": 15000,
 "allowRasterFunction": true,
 "rasterFunctionInfos": [
  {
   "name": "None",
   "description": "",
   "help": ""
  }
 ],
 "rasterTypeInfos": [
  {
   "name": "Raster Dataset",
   "description": "Supports all ArcGIS Raster Datasets",
   "help": ""
  }
 ],
 "mensurationCapabilities": "Basic",
 "hasHistograms": true,
 "hasColormap": false,
 "hasRasterAttributeTable": false,
 "minScale": 0,
 "maxScale": 0,
 "exportTilesAllowed": false,
 "hasMultidimensions": false,
 "supportsStatistics": false,
 "supportsAdvancedQueries": false,
 "editFieldsInfo": null,
 "ownershipBasedAccessControlForRasters": null,
 "allowComputeTiePoints": false,
 "useStandardizedQueries": true,
 "advancedQueryCapabilities": {
  "useStandardizedQueries": true,
  "supportsStatistics": false,
  "supportsOrderBy": false,
  "supportsDistinct": false,
  "supportsPagination": false
 },
 "spatialReference": {
  "wkid": 2038,
  "latestWkid": 2961
 }
}
